BEGIN:VCALENDAR
VERSION:2.0
PRODID:SchoolNow
CALSCALE:GREGORIAN
BEGIN:VEVENT
UID:d76d2b22-00a4-11ea-96ad-1273aa0c4dc9
DTSTAMP:20210221T191218Z
SUMMARY:Strategic Planning Committee - Apr. 2020
URL;VALUE=URI:https://www.lakestcharles.org/calendar/2140103/strategic-plan
 ning-committee-apr-2020
DTSTART:20200421T140000Z
DTEND:20200421T150000Z
END:VEVENT
END:VCALENDAR
