BEGIN:VCALENDAR
VERSION:2.0
PRODID:SchoolNow
CALSCALE:GREGORIAN
BEGIN:VEVENT
UID:cbc56e38-00a4-11ea-90b7-1273aa0c4dc9
DTSTAMP:20191106T145038Z
SUMMARY:Strategic Planning Committee
URL;VALUE=URI:https://www.lakestcharles.org/calendar/2140102/strategic-plan
 ning-committee-clone-clone
DTSTART:20200317T140000Z
DTEND:20200317T150000Z
END:VEVENT
END:VCALENDAR
