BEGIN:VCALENDAR
VERSION:2.0
PRODID:SchoolNow
CALSCALE:GREGORIAN
BEGIN:VEVENT
UID:bef67792-00a4-11ea-886b-1273aa0c4dc9
DTSTAMP:20191106T145016Z
SUMMARY:Strategic Planning Committee
URL;VALUE=URI:https://www.lakestcharles.org/calendar/2140101/strategic-plan
 ning-committee-clone-clone
DTSTART:20200218T150000Z
DTEND:20200218T160000Z
END:VEVENT
END:VCALENDAR
