BEGIN:VCALENDAR
VERSION:2.0
PRODID:SchoolNow
CALSCALE:GREGORIAN
BEGIN:VEVENT
UID:a51ad8e0-00a4-11ea-9204-1273aa0c4dc9
DTSTAMP:20191106T144933Z
SUMMARY:Strategic Planning Committee
URL;VALUE=URI:https://www.lakestcharles.org/calendar/2140098/strategic-plan
 ning-committee-clone-clone
DTSTART:20200121T150000Z
DTEND:20200121T160000Z
END:VEVENT
END:VCALENDAR
