BEGIN:VCALENDAR
VERSION:2.0
PRODID:SchoolNow
CALSCALE:GREGORIAN
BEGIN:VEVENT
UID:31cb8e02-00a4-11ea-b968-0a590872ac2b
DTSTAMP:20191106T144619Z
SUMMARY:Strategic Planning Committee
URL;VALUE=URI:https://www.lakestcharles.org/calendar/2140096/strategic-plan
 ning-committee-clone
DTSTART:20191217T150000Z
DTEND:20191217T160000Z
END:VEVENT
END:VCALENDAR
