BEGIN:VCALENDAR
VERSION:2.0
PRODID:SchoolNow
CALSCALE:GREGORIAN
BEGIN:VEVENT
UID:1eef7474-00a4-11ea-b8fd-0a590872ac2b
DTSTAMP:20191106T144548Z
SUMMARY:Strategic Planning Committee
URL;VALUE=URI:https://www.lakestcharles.org/calendar/2140095/strategic-plan
 ning-committee-clone
DTSTART:20191119T150000Z
DTEND:20191119T160000Z
END:VEVENT
END:VCALENDAR
