BEGIN:VCALENDAR
VERSION:2.0
PRODID:SchoolNow
CALSCALE:GREGORIAN
BEGIN:VEVENT
UID:f030f6e6-fcb9-11e9-aaab-1210c8848ba4
DTSTAMP:20191101T151154Z
SUMMARY:All Day Clubhouse Rental
URL;VALUE=URI:https://www.lakestcharles.org/calendar/2137517/all-day-clubho
 use-rental
DTSTART:20200201T130000Z
DTEND:20200202T040000Z
END:VEVENT
END:VCALENDAR
