BEGIN:VCALENDAR
VERSION:2.0
PRODID:SchoolNow
CALSCALE:GREGORIAN
BEGIN:VEVENT
UID:9c361ab2-fcb9-11e9-8fd7-0a4551e2d411
DTSTAMP:20191101T150933Z
SUMMARY:All Day Clubhouse Rental
URL;VALUE=URI:https://www.lakestcharles.org/calendar/2137516/all-day-clubho
 use-rental
DTSTART:20200111T130000Z
DTEND:20200112T040000Z
END:VEVENT
END:VCALENDAR
