BEGIN:VCALENDAR
VERSION:2.0
PRODID:SchoolNow
CALSCALE:GREGORIAN
BEGIN:VEVENT
UID:6e6ea216-fcb9-11e9-a765-1210c8848ba4
DTSTAMP:20191101T150816Z
SUMMARY:All Day Clubhouse Rental
URL;VALUE=URI:https://www.lakestcharles.org/calendar/2137515/all-day-clubho
 use-rental
DTSTART:20191215T130000Z
DTEND:20191216T040000Z
END:VEVENT
END:VCALENDAR
