BEGIN:VCALENDAR
VERSION:2.0
PRODID:SchoolNow
CALSCALE:GREGORIAN
BEGIN:VEVENT
UID:47fcb4a6-fcb9-11e9-88da-1210c8848ba4
DTSTAMP:20191101T150711Z
SUMMARY:HOA Holiday Party at Clubhouse
URL;VALUE=URI:https://www.lakestcharles.org/calendar/2137514/hoa-holiday-pa
 rty-at-clubhouse
DTSTART:20191214T160500Z
DTEND:20191214T170500Z
END:VEVENT
END:VCALENDAR
