BEGIN:VCALENDAR
VERSION:2.0
PRODID:SchoolNow
CALSCALE:GREGORIAN
BEGIN:VEVENT
UID:028af90a-fcb9-11e9-9619-0a290a37c11f
DTSTAMP:20191101T150515Z
SUMMARY:Evening Clubhouse Rental
URL;VALUE=URI:https://www.lakestcharles.org/calendar/2137513/evening-clubho
 use-rental
DTSTART:20191125T210000Z
DTEND:20191126T040000Z
END:VEVENT
END:VCALENDAR
