BEGIN:VCALENDAR
VERSION:2.0
PRODID:SchoolNow
CALSCALE:GREGORIAN
BEGIN:VEVENT
UID:eb4179c2-fcb8-11e9-b9a2-0a290a37c11f
DTSTAMP:20191101T150436Z
SUMMARY:Morning Clubhouse Rental
URL;VALUE=URI:https://www.lakestcharles.org/calendar/2137512/morning-clubho
 use-rental
DTSTART:20191103T130000Z
DTEND:20191103T200000Z
END:VEVENT
END:VCALENDAR
