BEGIN:VCALENDAR
VERSION:2.0
PRODID:SchoolNow
CALSCALE:GREGORIAN
BEGIN:VEVENT
UID:4abf2774-fcb8-11e9-a0fd-0a9ac54f8eb7
DTSTAMP:20191101T150110Z
SUMMARY:All Day Clubhouse Rental
URL;VALUE=URI:https://www.lakestcharles.org/calendar/2137509/all-day-rental
DTSTART:20191102T120000Z
DTEND:20191103T030000Z
END:VEVENT
END:VCALENDAR
