BEGIN:VCALENDAR
VERSION:2.0
PRODID:SchoolNow
CALSCALE:GREGORIAN
BEGIN:VEVENT
UID:967dbc54-e9d8-11e9-a050-0a66b44f182c
DTSTAMP:20191008T143414Z
SUMMARY:LSC Pumpkin Patch at the Clubhouse
URL;VALUE=URI:https://www.lakestcharles.org/calendar/2117136/lsc-pumpkin-pa
 tch-at-the-clubhouse
DTSTART:20191019T140000Z
DTEND:20191019T153000Z
END:VEVENT
END:VCALENDAR
