BEGIN:VCALENDAR
VERSION:2.0
PRODID:SchoolNow
CALSCALE:GREGORIAN
BEGIN:VEVENT
UID:09b0076c-e9d5-11e9-89e6-0a66b44f182c
DTSTAMP:20191008T140801Z
SUMMARY:All Day Clubhouse Rental
URL;VALUE=URI:https://www.lakestcharles.org/calendar/2117133/all-day-clubho
 use-rental
DTSTART:20191012T120000Z
DTEND:20191013T030000Z
END:VEVENT
END:VCALENDAR
