BEGIN:VCALENDAR
VERSION:2.0
PRODID:SchoolNow
CALSCALE:GREGORIAN
BEGIN:VEVENT
UID:e78ee432-e9d4-11e9-9e68-0a66b44f182c
DTSTAMP:20191008T140703Z
SUMMARY:All Day Clubhouse Rental
URL;VALUE=URI:https://www.lakestcharles.org/calendar/2117132/all-day-clubho
 use-rental
DTSTART:20191026T120000Z
DTEND:20191027T030000Z
END:VEVENT
END:VCALENDAR
