BEGIN:VCALENDAR
VERSION:2.0
PRODID:SchoolNow
CALSCALE:GREGORIAN
BEGIN:VEVENT
UID:57b95dd8-d589-11e9-bd47-123198a15d16
DTSTAMP:20190912T181547Z
SUMMARY:Community Yard Sale
URL;VALUE=URI:https://www.lakestcharles.org/calendar/2091920/community-yard
 -sale
DTSTART:20191012T120000Z
DTEND:20191012T170000Z
END:VEVENT
END:VCALENDAR
