BEGIN:VCALENDAR
VERSION:2.0
PRODID:SchoolNow
CALSCALE:GREGORIAN
BEGIN:VEVENT
UID:57b959dc-d589-11e9-9c0b-123198a15d16
DTSTAMP:20190912T181816Z
SUMMARY:All Day Clubhouse Rental
URL;VALUE=URI:https://www.lakestcharles.org/calendar/2091918/all-day-clubho
 use-rental
DTSTART;VALUE=DATE:20191005
DTEND;VALUE=DATE:20191006
END:VEVENT
END:VCALENDAR
