BEGIN:VCALENDAR
VERSION:2.0
PRODID:SchoolNow
CALSCALE:GREGORIAN
BEGIN:VEVENT
UID:57b957f2-d589-11e9-a523-123198a15d16
DTSTAMP:20210221T185116Z
SUMMARY:HOA Meeting - Sept. 2020
URL;VALUE=URI:https://www.lakestcharles.org/calendar/2091917/hoa-meeting-se
 pt-2020
DTSTART:20200914T223000Z
DTEND:20200914T233000Z
END:VEVENT
END:VCALENDAR
