BEGIN:VCALENDAR
VERSION:2.0
PRODID:SchoolNow
CALSCALE:GREGORIAN
BEGIN:VEVENT
UID:57b955fe-d589-11e9-9344-123198a15d16
DTSTAMP:20210221T185456Z
SUMMARY:HOA Meeting - Aug. 2020
URL;VALUE=URI:https://www.lakestcharles.org/calendar/2091916/hoa-meeting-au
 g-2020
DTSTART:20200810T223000Z
DTEND:20200810T233000Z
END:VEVENT
END:VCALENDAR
