BEGIN:VCALENDAR
VERSION:2.0
PRODID:SchoolNow
CALSCALE:GREGORIAN
BEGIN:VEVENT
UID:57b95400-d589-11e9-a336-123198a15d16
DTSTAMP:20210221T185854Z
SUMMARY:HOA Meeting - Jul. 2020
URL;VALUE=URI:https://www.lakestcharles.org/calendar/2091915/hoa-meeting-ju
 l-2020
DTSTART:20200713T223000Z
DTEND:20200713T233000Z
END:VEVENT
END:VCALENDAR
