BEGIN:VCALENDAR
VERSION:2.0
PRODID:SchoolNow
CALSCALE:GREGORIAN
BEGIN:VEVENT
UID:57b9520c-d589-11e9-8e47-123198a15d16
DTSTAMP:20210221T190611Z
SUMMARY:HOA Meeting - Jun. 2020
URL;VALUE=URI:https://www.lakestcharles.org/calendar/2091914/hoa-meeting-ju
 n-2020
DTSTART:20200608T223000Z
DTEND:20200608T233000Z
END:VEVENT
END:VCALENDAR
