BEGIN:VCALENDAR
VERSION:2.0
PRODID:SchoolNow
CALSCALE:GREGORIAN
BEGIN:VEVENT
UID:57b95018-d589-11e9-ba82-123198a15d16
DTSTAMP:20210221T190958Z
SUMMARY:HOA Meeting - May 2020
URL;VALUE=URI:https://www.lakestcharles.org/calendar/2091913/hoa-meeting-ma
 y-2020
DTSTART:20200511T223000Z
DTEND:20200511T233000Z
END:VEVENT
END:VCALENDAR
