BEGIN:VCALENDAR
VERSION:2.0
PRODID:SchoolNow
CALSCALE:GREGORIAN
BEGIN:VEVENT
UID:57b94e1a-d589-11e9-b0ac-123198a15d16
DTSTAMP:20210221T191359Z
SUMMARY:HOA Meeting - Apr. 2020
URL;VALUE=URI:https://www.lakestcharles.org/calendar/2091912/hoa-meeting-ap
 r-2020
DTSTART:20200413T223000Z
DTEND:20200413T233000Z
END:VEVENT
END:VCALENDAR
