BEGIN:VCALENDAR
VERSION:2.0
PRODID:SchoolNow
CALSCALE:GREGORIAN
BEGIN:VEVENT
UID:57b94c1c-d589-11e9-b557-123198a15d16
DTSTAMP:20190912T181547Z
SUMMARY:HOA Meeting
URL;VALUE=URI:https://www.lakestcharles.org/calendar/2091911/hoa-meeting
DTSTART:20200309T223000Z
DTEND:20200309T233000Z
END:VEVENT
END:VCALENDAR
