BEGIN:VCALENDAR
VERSION:2.0
PRODID:SchoolNow
CALSCALE:GREGORIAN
BEGIN:VEVENT
UID:57b94a1e-d589-11e9-94f2-123198a15d16
DTSTAMP:20190912T181547Z
SUMMARY:HOA Meeting
URL;VALUE=URI:https://www.lakestcharles.org/calendar/2091910/hoa-meeting
DTSTART:20200210T233000Z
DTEND:20200211T003000Z
END:VEVENT
END:VCALENDAR
