BEGIN:VCALENDAR
VERSION:2.0
PRODID:SchoolNow
CALSCALE:GREGORIAN
BEGIN:VEVENT
UID:57b9482a-d589-11e9-81dd-123198a15d16
DTSTAMP:20190912T181547Z
SUMMARY:HOA Meeting
URL;VALUE=URI:https://www.lakestcharles.org/calendar/2091909/hoa-meeting
DTSTART:20200113T233000Z
DTEND:20200114T003000Z
END:VEVENT
END:VCALENDAR
