BEGIN:VCALENDAR
VERSION:2.0
PRODID:SchoolNow
CALSCALE:GREGORIAN
BEGIN:VEVENT
UID:57b9462c-d589-11e9-a763-123198a15d16
DTSTAMP:20190912T181547Z
SUMMARY:HOA Meeting
URL;VALUE=URI:https://www.lakestcharles.org/calendar/2091908/hoa-meeting
DTSTART:20191209T233000Z
DTEND:20191210T003000Z
END:VEVENT
END:VCALENDAR
