BEGIN:VCALENDAR
VERSION:2.0
PRODID:SchoolNow
CALSCALE:GREGORIAN
BEGIN:VEVENT
UID:57b94226-d589-11e9-a665-123198a15d16
DTSTAMP:20190912T181547Z
SUMMARY:HOA Meeting
URL;VALUE=URI:https://www.lakestcharles.org/calendar/2091906/hoa-meeting
DTSTART:20191014T223000Z
DTEND:20191014T233000Z
END:VEVENT
END:VCALENDAR
