BEGIN:VCALENDAR
VERSION:2.0
PRODID:SchoolNow
CALSCALE:GREGORIAN
BEGIN:VEVENT
UID:57b94028-d589-11e9-b739-123198a15d16
DTSTAMP:20210221T185245Z
SUMMARY:CDD Board Meeting - Sept. 2020
URL;VALUE=URI:https://www.lakestcharles.org/calendar/2091905/cdd-board-meet
 ing-sept-2020
DTSTART:20200901T230000Z
DTEND:20200902T000000Z
ATTACH;FILENAME=2020-09-01 Supervisor Packet.pdf;FMTTYPE=application/pdf:ht
 tps://campussuite-storage.s3.amazonaws.com/prod/1558814/4c63d158-ac98-11e9
 -859c-0af81b81c350/2151062/d82651de-e829-11ea-a3e8-0a06630579f7/file/2020-
 09-01 Supervisor Packet.pdf
ATTACH;FILENAME=2020-09-01 Agenda.pdf;FMTTYPE=application/pdf:https://campu
 ssuite-storage.s3.amazonaws.com/prod/1558814/4c63d158-ac98-11e9-859c-0af81
 b81c350/2151064/f8554172-e829-11ea-8adc-0a06630579f7/file/2020-09-01 Agend
 a.pdf
ATTACH;FILENAME=2020-08-04 BOS Meeting Minutes.pdf;FMTTYPE=application/pdf:
 https://campussuite-storage.s3.amazonaws.com/prod/1558814/4c63d158-ac98-11
 e9-859c-0af81b81c350/2151063/f8553bf0-e829-11ea-b6a8-0a06630579f7/file/202
 0-08-04 BOS Meeting Minutes.pdf
ATTACH;FILENAME=2020-06 FY20-21 Final Budget & Assessment Roll 09-01-20.pdf
 ;FMTTYPE=application/pdf:https://campussuite-storage.s3.amazonaws.com/prod
 /1558814/4c63d158-ac98-11e9-859c-0af81b81c350/2151065/5199d216-e82a-11ea-9
 312-0a06630579f7/file/2020-06 FY20-21 Final Budget & Assessment Roll 09-01
 -20.pdf
END:VEVENT
END:VCALENDAR
