BEGIN:VCALENDAR
VERSION:2.0
PRODID:SchoolNow
CALSCALE:GREGORIAN
BEGIN:VEVENT
UID:57b93e2a-d589-11e9-9c06-123198a15d16
DTSTAMP:20210221T185525Z
SUMMARY:CDD Board Meeting - Aug. 2020
URL;VALUE=URI:https://www.lakestcharles.org/calendar/2091904/cdd-board-meet
 ing-aug-2020
DTSTART:20200804T230000Z
DTEND:20200805T000000Z
ATTACH;FILENAME=2020-08-04 Supervisor Packet.pdf;FMTTYPE=application/pdf:ht
 tps://campussuite-storage.s3.amazonaws.com/prod/1558814/4c63d158-ac98-11e9
 -859c-0af81b81c350/2135569/270e48da-d121-11ea-9bc7-12d4f8e0b2c3/file/2020-
 08-04 Supervisor Packet.pdf
ATTACH;FILENAME=2020-08-04 Agenda.pdf;FMTTYPE=application/pdf:https://campu
 ssuite-storage.s3.amazonaws.com/prod/1558814/4c63d158-ac98-11e9-859c-0af81
 b81c350/2135574/6a04cc9a-d121-11ea-87ca-12d4f8e0b2c3/file/2020-08-04 Agend
 a.pdf
ATTACH;FILENAME=2020-07-14 BOS Meeting Minutes.pdf;FMTTYPE=application/pdf:
 https://campussuite-storage.s3.amazonaws.com/prod/1558814/4c63d158-ac98-11
 e9-859c-0af81b81c350/2135573/6a04c5ec-d121-11ea-8ae1-12d4f8e0b2c3/file/202
 0-07-14 BOS Meeting Minutes.pdf
END:VEVENT
END:VCALENDAR
