BEGIN:VCALENDAR
VERSION:2.0
PRODID:SchoolNow
CALSCALE:GREGORIAN
BEGIN:VEVENT
UID:57b93c2c-d589-11e9-ba69-123198a15d16
DTSTAMP:20210221T185824Z
SUMMARY:CDD Board Meeting - Jul. 2020
URL;VALUE=URI:https://www.lakestcharles.org/calendar/2091903/cdd-board-meet
 ing-jul-2020
DTSTART:20200714T230000Z
DTEND:20200715T000000Z
ATTACH;FILENAME=2020-07-14 Supervisor Packet.pdf;FMTTYPE=application/pdf:ht
 tps://campussuite-storage.s3.amazonaws.com/prod/1558814/4c63d158-ac98-11e9
 -859c-0af81b81c350/2127019/81df7e70-c148-11ea-abe8-12587ae63c1d/file/2020-
 07-14 Supervisor Packet.pdf
ATTACH;FILENAME=2020-07-14 Agenda.pdf;FMTTYPE=application/pdf:https://campu
 ssuite-storage.s3.amazonaws.com/prod/1558814/4c63d158-ac98-11e9-859c-0af81
 b81c350/2127022/98c27bce-c148-11ea-8844-12587ae63c1d/file/2020-07-14 Agend
 a.pdf
ATTACH;FILENAME=2020-06-02 BOS Meeting Minutes.pdf;FMTTYPE=application/pdf:
 https://campussuite-storage.s3.amazonaws.com/prod/1558814/4c63d158-ac98-11
 e9-859c-0af81b81c350/2127020/98c27232-c148-11ea-9e38-12587ae63c1d/file/202
 0-06-02 BOS Meeting Minutes.pdf
ATTACH;FILENAME=2020-06-16 Emergency BOS Meeting Minutes.pdf;FMTTYPE=applic
 ation/pdf:https://campussuite-storage.s3.amazonaws.com/prod/1558814/4c63d1
 58-ac98-11e9-859c-0af81b81c350/2127021/98c27994-c148-11ea-8a69-12587ae63c1
 d/file/2020-06-16 Emergency BOS Meeting Minutes.pdf
END:VEVENT
END:VCALENDAR
