BEGIN:VCALENDAR
VERSION:2.0
PRODID:SchoolNow
CALSCALE:GREGORIAN
BEGIN:VEVENT
UID:57b93a1a-d589-11e9-9628-123198a15d16
DTSTAMP:20210221T190651Z
SUMMARY:CDD Board Meeting - Jun. 2020
URL;VALUE=URI:https://www.lakestcharles.org/calendar/2091902/cdd-board-meet
 ing-jun-2020
DTSTART:20200602T230000Z
DTEND:20200603T000000Z
ATTACH;FILENAME=2020-06-02 Supervisor Packet.pdf;FMTTYPE=application/pdf:ht
 tps://campussuite-storage.s3.amazonaws.com/prod/1558814/4c63d158-ac98-11e9
 -859c-0af81b81c350/2103828/236139e2-a05f-11ea-a698-127021b884e9/file/2020-
 06-02 Supervisor Packet.pdf
ATTACH;FILENAME=2020-06-02 Agenda.pdf;FMTTYPE=application/pdf:https://campu
 ssuite-storage.s3.amazonaws.com/prod/1558814/4c63d158-ac98-11e9-859c-0af81
 b81c350/2103830/3b9c4240-a05f-11ea-ab12-127021b884e9/file/2020-06-02 Agend
 a.pdf
ATTACH;FILENAME=2020-05-05 BOS Meeting Minutes.pdf;FMTTYPE=application/pdf:
 https://campussuite-storage.s3.amazonaws.com/prod/1558814/4c63d158-ac98-11
 e9-859c-0af81b81c350/2103829/3b9c3a8e-a05f-11ea-a29c-127021b884e9/file/202
 0-05-05 BOS Meeting Minutes.pdf
ATTACH;FILENAME=2020-03 Amendment to FY19-20 Adopted Budget 06-02-2020.pdf;
 FMTTYPE=application/pdf:https://campussuite-storage.s3.amazonaws.com/prod/
 1558814/4c63d158-ac98-11e9-859c-0af81b81c350/2103831/5faf36ce-a05f-11ea-b2
 f2-127021b884e9/file/2020-03 Amendment to FY19-20 Adopted Budget 06-02-202
 0.pdf
ATTACH;FILENAME=2020-04 FY 20-21 Proposed Budget Resolution 06-02-20.pdf;FM
 TTYPE=application/pdf:https://campussuite-storage.s3.amazonaws.com/prod/15
 58814/4c63d158-ac98-11e9-859c-0af81b81c350/2103833/84085a00-a05f-11ea-b27f
 -127021b884e9/file/2020-04 FY 20-21 Proposed Budget Resolution 06-02-20.pd
 f
END:VEVENT
END:VCALENDAR
