BEGIN:VCALENDAR
VERSION:2.0
PRODID:SchoolNow
CALSCALE:GREGORIAN
BEGIN:VEVENT
UID:57b9381c-d589-11e9-b6ed-123198a15d16
DTSTAMP:20210221T191111Z
SUMMARY:CDD Board Meeting - May 2020
URL;VALUE=URI:https://www.lakestcharles.org/calendar/2091901/cdd-board-meet
 ing-may-2020
DTSTART:20200505T230000Z
DTEND:20200506T000000Z
ATTACH;FILENAME=2020-05-05 Supervisor Packet.pdf;FMTTYPE=application/pdf:ht
 tps://campussuite-storage.s3.amazonaws.com/prod/1558814/4c63d158-ac98-11e9
 -859c-0af81b81c350/2091684/44a2ee22-8bd6-11ea-86d2-1206101a2aad/file/2020-
 05-05 Supervisor Packet.pdf
ATTACH;FILENAME=2020-05-05 Agenda.pdf;FMTTYPE=application/pdf:https://campu
 ssuite-storage.s3.amazonaws.com/prod/1558814/4c63d158-ac98-11e9-859c-0af81
 b81c350/2091689/5c0106da-8bd6-11ea-a9a6-1206101a2aad/file/2020-05-05 Agend
 a.pdf
ATTACH;FILENAME=2020-04-07 BOS Meeting Minutes.pdf;FMTTYPE=application/pdf:
 https://campussuite-storage.s3.amazonaws.com/prod/1558814/4c63d158-ac98-11
 e9-859c-0af81b81c350/2091687/5c00ff6e-8bd6-11ea-b232-1206101a2aad/file/202
 0-04-07 BOS Meeting Minutes.pdf
ATTACH;FILENAME=2020-04-21 Emergency BOS Meeting Minutes.pdf;FMTTYPE=applic
 ation/pdf:https://campussuite-storage.s3.amazonaws.com/prod/1558814/4c63d1
 58-ac98-11e9-859c-0af81b81c350/2091688/5c0104c8-8bd6-11ea-9c89-1206101a2aa
 d/file/2020-04-21 Emergency BOS Meeting Minutes.pdf
END:VEVENT
END:VCALENDAR
