BEGIN:VCALENDAR
VERSION:2.0
PRODID:SchoolNow
CALSCALE:GREGORIAN
BEGIN:VEVENT
UID:57b9361e-d589-11e9-b5ec-123198a15d16
DTSTAMP:20210221T191554Z
SUMMARY:CDD Board Meeting - Apr. 2020
URL;VALUE=URI:https://www.lakestcharles.org/calendar/2091900/cdd-board-meet
 ing-apr-2020
DTSTART:20200407T230000Z
DTEND:20200408T000000Z
ATTACH;FILENAME=2020-04-07 Supervisor Packet.pdf;FMTTYPE=application/pdf:ht
 tps://campussuite-storage.s3.amazonaws.com/prod/1558814/4c63d158-ac98-11e9
 -859c-0af81b81c350/2077320/f1f89b88-769d-11ea-9b79-12c3eb9be549/file/2020-
 04-07 Supervisor Packet.pdf
ATTACH;FILENAME=2020-04-07 Agenda.pdf;FMTTYPE=application/pdf:https://campu
 ssuite-storage.s3.amazonaws.com/prod/1558814/4c63d158-ac98-11e9-859c-0af81
 b81c350/2077322/09030016-769e-11ea-8809-0a5df35078db/file/2020-04-07 Agend
 a.pdf
ATTACH;FILENAME=2020-03-03 BOS Meeting Minutes.pdf;FMTTYPE=application/pdf:
 https://campussuite-storage.s3.amazonaws.com/prod/1558814/4c63d158-ac98-11
 e9-859c-0af81b81c350/2077321/0902fc60-769e-11ea-bc60-0a5df35078db/file/202
 0-03-03 BOS Meeting Minutes.pdf
END:VEVENT
END:VCALENDAR
