BEGIN:VCALENDAR
VERSION:2.0
PRODID:SchoolNow
CALSCALE:GREGORIAN
BEGIN:VEVENT
UID:57b93416-d589-11e9-aa53-123198a15d16
DTSTAMP:20200227T162418Z
SUMMARY:CDD Board Meeting
URL;VALUE=URI:https://www.lakestcharles.org/calendar/2091899/cdd-board-meet
 ing
DTSTART:20200304T000000Z
DTEND:20200304T010000Z
ATTACH;FILENAME=2020-03-03 Supervisor Packet.pdf;FMTTYPE=application/pdf:ht
 tps://campussuite-storage.s3.amazonaws.com/prod/1558814/4c63d158-ac98-11e9
 -859c-0af81b81c350/2056336/6e3e735e-597d-11ea-92fc-0a13c7a26287/file/2020-
 03-03 Supervisor Packet.pdf
ATTACH;FILENAME=2020-03-03 Agenda.pdf;FMTTYPE=application/pdf:https://campu
 ssuite-storage.s3.amazonaws.com/prod/1558814/4c63d158-ac98-11e9-859c-0af81
 b81c350/2056341/8a179d80-597d-11ea-8f57-0a13c7a26287/file/2020-03-03 Agend
 a.pdf
ATTACH;FILENAME=2020-02-04 BOS Meeting Minutes.pdf;FMTTYPE=application/pdf:
 https://campussuite-storage.s3.amazonaws.com/prod/1558814/4c63d158-ac98-11
 e9-859c-0af81b81c350/2056340/8a179704-597d-11ea-9bf9-0a13c7a26287/file/202
 0-02-04 BOS Meeting Minutes.pdf
END:VEVENT
END:VCALENDAR
