BEGIN:VCALENDAR
VERSION:2.0
PRODID:SchoolNow
CALSCALE:GREGORIAN
BEGIN:VEVENT
UID:57b9320e-d589-11e9-a467-123198a15d16
DTSTAMP:20200130T164126Z
SUMMARY:CDD Board Meeting
URL;VALUE=URI:https://www.lakestcharles.org/calendar/2091898/cdd-board-meet
 ing
DTSTART:20200205T000000Z
DTEND:20200205T010000Z
ATTACH;FILENAME=2020-02-04 Supervisor Packet.pdf;FMTTYPE=application/pdf:ht
 tps://campussuite-storage.s3.amazonaws.com/prod/1558814/4c63d158-ac98-11e9
 -859c-0af81b81c350/2045297/2ab1a20a-437f-11ea-876e-0a7c5bebbfe5/file/2020-
 02-04 Supervisor Packet.pdf
ATTACH;FILENAME=2020-02-04 Agenda.pdf;FMTTYPE=application/pdf:https://campu
 ssuite-storage.s3.amazonaws.com/prod/1558814/4c63d158-ac98-11e9-859c-0af81
 b81c350/2045299/412feb22-437f-11ea-a609-0a7c5bebbfe5/file/2020-02-04 Agend
 a.pdf
ATTACH;FILENAME=2020-01-07 BOS Meeting Minutes.pdf;FMTTYPE=application/pdf:
 https://campussuite-storage.s3.amazonaws.com/prod/1558814/4c63d158-ac98-11
 e9-859c-0af81b81c350/2045298/412fe5c8-437f-11ea-8bc7-0a7c5bebbfe5/file/202
 0-01-07 BOS Meeting Minutes.pdf
END:VEVENT
END:VCALENDAR
