BEGIN:VCALENDAR
VERSION:2.0
PRODID:SchoolNow
CALSCALE:GREGORIAN
BEGIN:VEVENT
UID:57b92ffc-d589-11e9-a247-123198a15d16
DTSTAMP:20200103T230309Z
SUMMARY:CDD Board Meeting
URL;VALUE=URI:https://www.lakestcharles.org/calendar/2091897/cdd-board-meet
 ing
DTSTART:20200108T000000Z
DTEND:20200108T010000Z
ATTACH;FILENAME=2020-01-07 Supervisor Packet.pdf;FMTTYPE=application/pdf:ht
 tps://campussuite-storage.s3.amazonaws.com/prod/1558814/4c63d158-ac98-11e9
 -859c-0af81b81c350/2031957/116cc462-2e7d-11ea-b31d-0ab9f8af5147/file/2020-
 01-07 Supervisor Packet.pdf
ATTACH;FILENAME=2020-01-07 Agenda.pdf;FMTTYPE=application/pdf:https://campu
 ssuite-storage.s3.amazonaws.com/prod/1558814/4c63d158-ac98-11e9-859c-0af81
 b81c350/2031961/28a169f8-2e7d-11ea-86b2-0ab9f8af5147/file/2020-01-07 Agend
 a.pdf
ATTACH;FILENAME=2019-12-03 BOS Meeting Minutes.pdf;FMTTYPE=application/pdf:
 https://campussuite-storage.s3.amazonaws.com/prod/1558814/4c63d158-ac98-11
 e9-859c-0af81b81c350/2031960/28a165e8-2e7d-11ea-b6e2-0ab9f8af5147/file/201
 9-12-03 BOS Meeting Minutes.pdf
END:VEVENT
END:VCALENDAR
