BEGIN:VCALENDAR
VERSION:2.0
PRODID:SchoolNow
CALSCALE:GREGORIAN
BEGIN:VEVENT
UID:57b92dd6-d589-11e9-a7a8-123198a15d16
DTSTAMP:20191127T200832Z
SUMMARY:CDD Board Meeting
URL;VALUE=URI:https://www.lakestcharles.org/calendar/2091896/cdd-board-meet
 ing
DTSTART:20191204T000000Z
DTEND:20191204T010000Z
ATTACH;FILENAME=2019-11-05 BOS Meeting Minutes.pdf;FMTTYPE=application/pdf:
 https://campussuite-storage.s3.amazonaws.com/prod/1558814/4c63d158-ac98-11
 e9-859c-0af81b81c350/2021428/95e9d7fa-1151-11ea-97ff-12b3726c661d/file/201
 9-11-05 BOS Meeting Minutes.pdf
ATTACH;FILENAME=2019-12-03 Agenda.pdf;FMTTYPE=application/pdf:https://campu
 ssuite-storage.s3.amazonaws.com/prod/1558814/4c63d158-ac98-11e9-859c-0af81
 b81c350/2021429/95e9dbd8-1151-11ea-be51-12b3726c661d/file/2019-12-03 Agend
 a.pdf
ATTACH;FILENAME=2019-12-03 Supervisor Packet.pdf;FMTTYPE=application/pdf:ht
 tps://campussuite-storage.s3.amazonaws.com/prod/1558814/4c63d158-ac98-11e9
 -859c-0af81b81c350/2021427/7a9e7c76-1151-11ea-b28a-12b3726c661d/file/2019-
 12-03 Supervisor Packet.pdf
END:VEVENT
END:VCALENDAR
