BEGIN:VCALENDAR
VERSION:2.0
PRODID:SchoolNow
CALSCALE:GREGORIAN
BEGIN:VEVENT
UID:57b92b38-d589-11e9-8da2-123198a15d16
DTSTAMP:20191031T183338Z
SUMMARY:CDD Board Meeting
URL;VALUE=URI:https://www.lakestcharles.org/calendar/2091895/cdd-board-meet
 ing
DTSTART:20191106T000000Z
DTEND:20191106T010000Z
ATTACH;FILENAME=2019-11-05 Supervisor Packet.pdf;FMTTYPE=application/pdf:ht
 tps://campussuite-storage.s3.amazonaws.com/prod/1558814/4c63d158-ac98-11e9
 -859c-0af81b81c350/2007259/92e970c4-fc0c-11e9-b140-0abee46931d7/file/2019-
 11-05 Supervisor Packet.pdf
ATTACH;FILENAME=2019-10-01 BOS Meeting Minutes.pdf;FMTTYPE=application/pdf:
 https://campussuite-storage.s3.amazonaws.com/prod/1558814/4c63d158-ac98-11
 e9-859c-0af81b81c350/2007264/afeaa94a-fc0c-11e9-adbe-0abee46931d7/file/201
 9-10-01 BOS Meeting Minutes.pdf
ATTACH;FILENAME=2019-11-05 Agenda.pdf;FMTTYPE=application/pdf:https://campu
 ssuite-storage.s3.amazonaws.com/prod/1558814/4c63d158-ac98-11e9-859c-0af81
 b81c350/2007265/afeaad32-fc0c-11e9-98dd-0abee46931d7/file/2019-11-05 Agend
 a.pdf
ATTACH;FILENAME=2020-01 Amendment to FY19-20 Adopted Budget.pdf;FMTTYPE=app
 lication/pdf:https://campussuite-storage.s3.amazonaws.com/prod/1558814/4c6
 3d158-ac98-11e9-859c-0af81b81c350/2007266/d3f5236a-fc0c-11e9-8e8b-0abee469
 31d7/file/2020-01 Amendment to FY19-20 Adopted Budget.pdf
END:VEVENT
END:VCALENDAR
