BEGIN:VCALENDAR
VERSION:2.0
PRODID:SchoolNow
CALSCALE:GREGORIAN
BEGIN:VEVENT
UID:57b91fb2-d589-11e9-8a92-123198a15d16
DTSTAMP:20190921T165953Z
SUMMARY:CDD Board Meeting
URL;VALUE=URI:https://www.lakestcharles.org/calendar/2091894/cdd-board-meet
 ing
DTSTART:20191001T230000Z
DTEND:20191002T000000Z
ATTACH;FILENAME=2019-10-01 Supervisor Packet.pdf;FMTTYPE=application/pdf:ht
 tps://campussuite-storage.s3.amazonaws.com/prod/1558814/4c63d158-ac98-11e9
 -859c-0af81b81c350/1987343/a0301a76-dc90-11e9-9f11-0abb5d53b018/file/2019-
 10-01 Supervisor Packet.pdf
ATTACH;FILENAME=2019-10-01 Agenda.pdf;FMTTYPE=application/pdf:https://campu
 ssuite-storage.s3.amazonaws.com/prod/1558814/4c63d158-ac98-11e9-859c-0af81
 b81c350/1987346/15c04ab8-dc91-11e9-aa7a-0abb5d53b018/file/2019-10-01 Agend
 a.pdf
ATTACH;FILENAME=2019-09-10 BOS Meeting Minutes.pdf;FMTTYPE=application/pdf:
 https://campussuite-storage.s3.amazonaws.com/prod/1558814/4c63d158-ac98-11
 e9-859c-0af81b81c350/1987344/cf948806-dc90-11e9-8d0e-0abb5d53b018/file/201
 9-09-10 BOS Meeting Minutes.pdf
END:VEVENT
END:VCALENDAR
