BEGIN:VCALENDAR
VERSION:2.0
PRODID:SchoolNow
CALSCALE:GREGORIAN
BEGIN:VEVENT
UID:a5152004-c36d-11e9-ae54-0a675381a3b0
DTSTAMP:20190820T171209Z
SUMMARY:HOA Meeting
URL;VALUE=URI:https://www.lakestcharles.org/calendar/2069047/hoa-meeting-ju
 ly-2019
DTSTART:20190708T223000Z
DTEND:20190709T003000Z
END:VEVENT
END:VCALENDAR
