BEGIN:VCALENDAR
VERSION:2.0
PRODID:SchoolNow
CALSCALE:GREGORIAN
BEGIN:VEVENT
UID:2c219308-b4cc-11e9-90b8-0a1cc7508ae4
DTSTAMP:20190820T170751Z
SUMMARY:Grounds/Security Mtg
URL;VALUE=URI:https://www.lakestcharles.org/calendar/2047352/grounds-securi
 ty-mtg
DTSTART:20191120T173000Z
DTEND:20191120T183000Z
END:VEVENT
END:VCALENDAR
