BEGIN:VCALENDAR
VERSION:2.0
PRODID:SchoolNow
CALSCALE:GREGORIAN
BEGIN:VEVENT
UID:2c2188c2-b4cc-11e9-9ce8-0a1cc7508ae4
DTSTAMP:20191106T145516Z
SUMMARY:Treasurer's Review Mtg
URL;VALUE=URI:https://www.lakestcharles.org/calendar/2047350/treasurers-rev
 iew-mtg
DTSTART:20191121T180000Z
DTEND:20191121T190000Z
END:VEVENT
END:VCALENDAR
