BEGIN:VCALENDAR
VERSION:2.0
PRODID:SchoolNow
CALSCALE:GREGORIAN
BEGIN:VEVENT
UID:2c21839a-b4cc-11e9-a3d8-0a1cc7508ae4
DTSTAMP:20190820T170649Z
SUMMARY:Treasurer's Review Mtg
URL;VALUE=URI:https://www.lakestcharles.org/calendar/2047349/treasurers-rev
 iew-mtg
DTSTART:20191018T150000Z
DTEND:20191018T160000Z
END:VEVENT
END:VCALENDAR
