BEGIN:VCALENDAR
VERSION:2.0
PRODID:SchoolNow
CALSCALE:GREGORIAN
BEGIN:VEVENT
UID:2c217e68-b4cc-11e9-8e82-0a1cc7508ae4
DTSTAMP:20190820T170637Z
SUMMARY:Management Committee
URL;VALUE=URI:https://www.lakestcharles.org/calendar/2047348/management-com
 mittee
DTSTART:20191017T163000Z
DTEND:20191017T173000Z
END:VEVENT
END:VCALENDAR
