BEGIN:VCALENDAR
VERSION:2.0
PRODID:SchoolNow
CALSCALE:GREGORIAN
BEGIN:VEVENT
UID:2c217940-b4cc-11e9-95e8-0a1cc7508ae4
DTSTAMP:20190820T170621Z
SUMMARY:Grounds/Security Mtg
URL;VALUE=URI:https://www.lakestcharles.org/calendar/2047347/grounds-securi
 ty-mtg
DTSTART:20191016T163000Z
DTEND:20191016T173000Z
END:VEVENT
END:VCALENDAR
