BEGIN:VCALENDAR
VERSION:2.0
PRODID:SchoolNow
CALSCALE:GREGORIAN
BEGIN:VEVENT
UID:2c217404-b4cc-11e9-aa5e-0a1cc7508ae4
DTSTAMP:20190820T170611Z
SUMMARY:Strategic Planning Committee
URL;VALUE=URI:https://www.lakestcharles.org/calendar/2047346/strategic-plan
 ning-committee
DTSTART:20191015T140000Z
DTEND:20191015T150000Z
END:VEVENT
END:VCALENDAR
