BEGIN:VCALENDAR
VERSION:2.0
PRODID:SchoolNow
CALSCALE:GREGORIAN
BEGIN:VEVENT
UID:2c2169b4-b4cc-11e9-a9c1-0a1cc7508ae4
DTSTAMP:20190912T181655Z
SUMMARY:Clubhouse All Day Rental
URL;VALUE=URI:https://www.lakestcharles.org/calendar/2047344/clubhouse-all-
 day-rental
DTSTART;VALUE=DATE:20190921
DTEND;VALUE=DATE:20190922
END:VEVENT
END:VCALENDAR
