BEGIN:VCALENDAR
VERSION:2.0
PRODID:SchoolNow
CALSCALE:GREGORIAN
BEGIN:VEVENT
UID:2c216482-b4cc-11e9-8303-0a1cc7508ae4
DTSTAMP:20190820T170552Z
SUMMARY:Treasurer's Review Mtg
URL;VALUE=URI:https://www.lakestcharles.org/calendar/2047343/treasurers-rev
 iew-mtg
DTSTART:20190920T150000Z
DTEND:20190920T160000Z
END:VEVENT
END:VCALENDAR
